BEGIN:VCALENDAR
VERSION:2.0
PRODID:-//eventon.com NONSGML v1.0//EN
CALSCALE:GREGORIAN
METHOD:PUBLISH
BEGIN:VEVENT
UID:69e4d5d346c24
DTSTAMP:20260419T131707Z
DTSTART:20260130T090000Z
DTEND:20260130T130000Z
LOCATION:UGT Confederal Avda. de América\,  25 - 28002
SUMMARY:Taller: Aplicación de gestión de bases de datos interna para elecciones sindicales (AGI)
DESCRIPTION:Que los usuarios de AGI adquieran la competencia en todo lo rel
 acionado con la grabación de elecciones sindicales y gestión de datos de 
 los Delegados/as\,  lo que permitirá a la organización conocer su represe
 ntatividad en los diferentes convenios para la negociación colectiva. Para
  inscribirse\,  consulta con tú organismo sindical de[..]\nhttps://formaci
 onugt.org/events/taller-aplicacion-de-gestion-de-bases-de-datos-interna-par
 a-elecciones-sindicales-agi/
URL:https://formacionugt.org/events/taller-aplicacion-de-gestion-de-bases-de-datos-interna-para-elecciones-sindicales-agi/
END:VEVENT
END:VCALENDAR